BEGIN:VCALENDAR
VERSION:2.0
PRODID:-//Tukios.com/
BEGIN:VEVENT
UID:3720186d-4ec8-4145-9174-b92fcfade670@www.chapelofhopefunerals.com
DTSTAMP:20260423T192456Z
DTSTART:20260428T200000Z
DTEND:20260428T210000Z
SUMMARY:Funeral Service
DESCRIPTION:
URL:https://www.chapelofhopefunerals.com/obituaries/manuel-hinojos
LOCATION:Chapel of Hope Funeral Home 3321 North Dal Paso Street  Hobbs NM 
	88240
GEO:32.7361026;-103.1282442
END:VEVENT
END:VCALENDAR