BEGIN:VCALENDAR
VERSION:2.0
PRODID:-//Tukios.com/
BEGIN:VEVENT
UID:3680ca2d-cff4-433d-acb5-a4413417ddff@www.chapelofhopefunerals.com
DTSTAMP:20260423T193204Z
DTSTART:20260428T211500Z
DTEND:20260428T221500Z
SUMMARY:Burial
DESCRIPTION:
URL:https://www.chapelofhopefunerals.com/obituaries/manuel-hinojos
LOCATION: 2201 E Stanolind Rd  Hobbs NM 88240
GEO:32.6821081;-103.11049
END:VEVENT
END:VCALENDAR