BEGIN:VCALENDAR
VERSION:2.0
PRODID:-//Tukios.com/
BEGIN:VEVENT
UID:c219058a-075b-476e-88ba-863eaf70f1f9@www.chapelofhopefunerals.com
DTSTAMP:20260421T230542Z
DTSTART:20260423T210000Z
DTEND:20260424T003000Z
SUMMARY:Visitation
DESCRIPTION:
URL:https://www.chapelofhopefunerals.com/obituaries/samuel-navarette
LOCATION: 3321 N Dal Paso St  Hobbs NM 88240
GEO:32.7361026;-103.1282442
END:VEVENT
END:VCALENDAR