BEGIN:VCALENDAR
VERSION:2.0
PRODID:-//Tukios.com/
BEGIN:VEVENT
UID:b389f44b-ab9b-400f-b129-11b782b96f16@www.chapelofhopefunerals.com
DTSTAMP:20260421T230047Z
DTSTART:20260423T230000Z
DTEND:20260424T000000Z
SUMMARY:Rosary
DESCRIPTION:
URL:https://www.chapelofhopefunerals.com/obituaries/samuel-navarette
LOCATION: 3321 N Dal Paso St  Hobbs NM 88240
GEO:32.7361026;-103.1282442
END:VEVENT
END:VCALENDAR