BEGIN:VCALENDAR
VERSION:2.0
PRODID:-//Tukios.com/
BEGIN:VEVENT
UID:380fd24a-69ee-4075-bb71-92c30394ee99@www.chapelofhopefunerals.com
DTSTAMP:20260421T225515Z
DTSTART:20260424T160000Z
DTEND:20260424T170000Z
SUMMARY:Mass
DESCRIPTION:
URL:https://www.chapelofhopefunerals.com/obituaries/samuel-navarette
LOCATION: 100 E Bender Blvd  Hobbs NM 88240
GEO:32.7263653;-103.1350657
END:VEVENT
END:VCALENDAR